BEGIN:VCALENDAR
VERSION:2.0
PRODID:-//www.birsfelden.ch//NONSGML kigkonsult.se iCalcreator 2.22//
CALSCALE:GREGORIAN
METHOD:PUBLISH
X-WR-TIMEZONE:Europe/Berlin
BEGIN:VEVENT
UID:20260425T142937CEST-0726T2I2MU@www.birsfelden.ch
DTSTAMP:20260425T122937Z
DESCRIPTION:Klicken Sie auf den folgenden Link\, um weitere Informationen z
 ur Veranstaltung zu erhalten:\nhttp://www.birsfelden.ch/de/veranstaltungen
 /detail/detail.php?i=2191
DTSTART:20260430T173000
DTEND:20260430T193000
LOCATION:ROXY Birsfelden
SUMMARY:Workshop: Schütze dich und deine Daten
END:VEVENT
END:VCALENDAR
